BEGIN:VCALENDAR
VERSION:2.0
PRODID:-//evang-jugend-ortenau.de//NONSGML kigkonsult.se iCalcreator 2.41.92//
CALSCALE:GREGORIAN
METHOD:PUBLISH
UID:66333236-3633-4431-b665-356530643939
X-WR-TIMEZONE:Europe/Berlin
X-LIC-LOCATION:Europe/Berlin
BEGIN:VTIMEZONE
TZID:Europe/Berlin
BEGIN:DAYLIGHT
TZOFFSETFROM:+0100
TZOFFSETTO:+0200
TZNAME:CEST
DTSTART:19700329T020000
RRULE:FREQ=YEARLY;BYDAY=-1SU;BYMONTH=3
END:DAYLIGHT
BEGIN:STANDARD
TZOFFSETFROM:+0200
TZOFFSETTO:+0100
TZNAME:CET
DTSTART:19701025T030000
RRULE:FREQ=YEARLY;BYDAY=-1SU;BYMONTH=10
END:STANDARD
END:VTIMEZONE
BEGIN:VEVENT
UID:61653633-6538-4132-a430-646135613138
DTSTAMP:20260421T154511Z
DESCRIPTION:online\n \n für Mitarbeiter*innen in der Kinder- und Jugendarbe
 it ab 16 Jahren\n \n Veranstaltungsort:\n Online (Link erhältlich nach Anm
 eldung)\n \n Veranstalter:\n Evangelisches Kinder- und Jugendwerk Ortenau
 \n Martin-Luther-Str. 5\n 77933 Lahr\n Telefon: 07821 9089615\n https://ev
 ang-jugend-ortenau.de
DTSTART;TZID=Europe/Berlin:20260918T180000
DTEND;TZID=Europe/Berlin:20260918T213000
LOCATION:Online (Link erhältlich nach Anmeldung)
SUMMARY:AlleAchtung-Schulung
X-ALT-DESC;FMTTYPE=text/html:online<br /><br />für Mitarbeiter*innen in der
  Kinder- und Jugendarbeit\n ab 16 Jahren<br /><br />Veranstaltungsort: <br
  />Online (Link erhältlich nach Anmeldung)<br /><br />Veranstalter: <br />
 Evangelisches Kinder- und Jugendwerk Ortenau<br />Martin-Luther-Str. 5<br 
 />77933 Lahr<br />Telefon: 07821 9089615<br />https://evang-jugend-ortenau
 .de
END:VEVENT
END:VCALENDAR
