BEGIN:VCALENDAR
VERSION:2.0
PRODID:-//evang-jugend-ortenau.de//NONSGML kigkonsult.se iCalcreator 2.41.92//
CALSCALE:GREGORIAN
METHOD:PUBLISH
UID:32393365-6432-4138-a263-323366373565
X-WR-TIMEZONE:Europe/Berlin
X-LIC-LOCATION:Europe/Berlin
BEGIN:VTIMEZONE
TZID:Europe/Berlin
BEGIN:DAYLIGHT
TZOFFSETFROM:+0100
TZOFFSETTO:+0200
TZNAME:CEST
DTSTART:19700329T020000
RRULE:FREQ=YEARLY;BYDAY=-1SU;BYMONTH=3
END:DAYLIGHT
BEGIN:STANDARD
TZOFFSETFROM:+0200
TZOFFSETTO:+0100
TZNAME:CET
DTSTART:19701025T030000
RRULE:FREQ=YEARLY;BYDAY=-1SU;BYMONTH=10
END:STANDARD
END:VTIMEZONE
BEGIN:VEVENT
UID:66333861-3461-4464-b961-616564373138
DTSTAMP:20260421T191709Z
DESCRIPTION:für Mitarbeiter*innen in der Kinder- und Jugendarbeit ab 16 Jah
 ren\n \n Veranstaltungsort:\n Gemeindesaal Leutesheim (Kehl)\n Badener Str
 aße 33\n 77694 Kehl-Leutesheim\n \n Veranstalter:\n Evangelisches Kinder- 
 und Jugendwerk Ortenau\n Martin-Luther-Str. 5\n 77933 Lahr\n Telefon: 0782
 1 9089615\n https://evang-jugend-ortenau.de
DTSTART;TZID=Europe/Berlin:20260619T180000
DTEND;TZID=Europe/Berlin:20260619T213000
LOCATION:Gemeindesaal Leutesheim (Kehl)\n - Badener Straße 33\n - 77694 Keh
 l-Leutesheim
SUMMARY:AlleAchtung-Schulung
X-ALT-DESC;FMTTYPE=text/html:für Mitarbeiter*innen in der Kinder- und Jugen
 darbeit\n ab 16 Jahren<br /><br />Veranstaltungsort: <br />Gemeindesaal Le
 utesheim (Kehl)<br />Badener Straße 33<br />77694 Kehl-Leutesheim<br /><br
  />Veranstalter: <br />Evangelisches Kinder- und Jugendwerk Ortenau<br />M
 artin-Luther-Str. 5<br />77933 Lahr<br />Telefon: 07821 9089615<br />https
 ://evang-jugend-ortenau.de
END:VEVENT
END:VCALENDAR
